BEGIN:VCALENDAR
VERSION:2.0
PRODID:-//Writers&#039; Community of York Region - ECPv6.15.20//NONSGML v1.0//EN
CALSCALE:GREGORIAN
METHOD:PUBLISH
X-WR-CALNAME:Writers&#039; Community of York Region
X-ORIGINAL-URL:https://wcyork.ca
X-WR-CALDESC:Events for Writers&#039; Community of York Region
REFRESH-INTERVAL;VALUE=DURATION:PT1H
X-Robots-Tag:noindex
X-PUBLISHED-TTL:PT1H
BEGIN:VTIMEZONE
TZID:America/Toronto
BEGIN:DAYLIGHT
TZOFFSETFROM:-0500
TZOFFSETTO:-0400
TZNAME:EDT
DTSTART:20250309T070000
END:DAYLIGHT
BEGIN:STANDARD
TZOFFSETFROM:-0400
TZOFFSETTO:-0500
TZNAME:EST
DTSTART:20251102T060000
END:STANDARD
BEGIN:DAYLIGHT
TZOFFSETFROM:-0500
TZOFFSETTO:-0400
TZNAME:EDT
DTSTART:20260308T070000
END:DAYLIGHT
BEGIN:STANDARD
TZOFFSETFROM:-0400
TZOFFSETTO:-0500
TZNAME:EST
DTSTART:20261101T060000
END:STANDARD
BEGIN:DAYLIGHT
TZOFFSETFROM:-0500
TZOFFSETTO:-0400
TZNAME:EDT
DTSTART:20270314T070000
END:DAYLIGHT
BEGIN:STANDARD
TZOFFSETFROM:-0400
TZOFFSETTO:-0500
TZNAME:EST
DTSTART:20271107T060000
END:STANDARD
END:VTIMEZONE
BEGIN:VEVENT
DTSTART;TZID=America/Toronto:20260301T000000
DTEND;TZID=America/Toronto:20260430T235959
DTSTAMP:20260420T111541
CREATED:20260311T134400Z
LAST-MODIFIED:20260311T134400Z
UID:5960-1772323200-1777593599@wcyork.ca
SUMMARY:Whistler Independent Book Awards
DESCRIPTION:The 2026 WIBAs ARE NOW OPEN FOR SUBMISSIONS! \nSince 2016\, the Whistler Independent Book Awards have proudly recognized excellence in Canadian self-publishing. To mark the beginning of our second decade\, the WIBAs have some exciting new features to make the awards even more inclusive. \nWHAT’S NEW: \n\nNow open internationally\, to any self-published author writing in English\nNew Poetry category (in addition to Fiction\, Non-Fiction\, and Children’s)\nSignificantly reduced entry fee and discounted fee for additional entries\nPublished longlist in each category\, to give public recognition to a greater number of authors\n\nWHAT’S THE SAME: \n\nHigh standards: All submissions will continue to be evaluated on specified criteria tailored to each category\nIndependent jurors: The Whistler Writing Society and named Judges\, widely respected in their genres\nFestival integration: Finalists in each category are invited to attend the Whistler Writers Festival and are included in several festival events; the winners are announced at the festival’s headline event; opportunity to sell books.\n\nFor full competition details and terms\, and to submit your self-published book\, please visit our website: www.independentbookawards.ca \nEntries for the 2026 awards are open from March 1 to April 30\, 2026. \nGood luck\, everyone!
URL:https://wcyork.ca/event/whistler-independent-book-awards/
LOCATION:Virtual Event\, Online
CATEGORIES:Writing Competition
ATTACH;FMTTYPE=image/png:https://wcyork.ca/wp-content/uploads/2026/03/Screenshot-2026-03-11-093927.png
END:VEVENT
BEGIN:VEVENT
DTSTART;TZID=America/Toronto:20260316T000000
DTEND;TZID=America/Toronto:20260425T235959
DTSTAMP:20260420T111541
CREATED:20260311T002720Z
LAST-MODIFIED:20260311T002720Z
UID:5952-1773619200-1777161599@wcyork.ca
SUMMARY:Ekphrastic: Stouffville Writing Contest
DESCRIPTION:
URL:https://wcyork.ca/event/ekphrastic-stouffville-writing-contest/
LOCATION:Virtual Event\, Online
CATEGORIES:Competitions
ATTACH;FMTTYPE=image/png:https://wcyork.ca/wp-content/uploads/2026/03/Screenshot-2026-03-10-202550.png
ORGANIZER;CN="The Inklings Adult Writing Group":MAILTO:inklingswritingcontest@gmail.com
END:VEVENT
BEGIN:VEVENT
DTSTART;TZID=America/Toronto:20260323T000000
DTEND;TZID=America/Toronto:20260531T235959
DTSTAMP:20260420T111541
CREATED:20260311T001756Z
LAST-MODIFIED:20260311T001756Z
UID:5947-1774224000-1780271999@wcyork.ca
SUMMARY:Timeless Tales VI: The Cradle\, The Altar\, and The Grave
DESCRIPTION:Timeless Tales is an annual all-ages writing contest presented by Arts Society King and the King Heritage & Cultural Centre. \nSubmissions are welcome from writers living in York\, Simcoe\, and Peel regions. There is no entry fee. \nFor complete details\, rules\, registration forms and contact information\, please go to https://artssocietyking.ca/events/timeless-tales-vi-the-cradle-the-altar-and-the-grave/
URL:https://wcyork.ca/event/timeless-tales-vi-the-cradle-the-altar-and-the-grave/
LOCATION:Virtual Event\, Online
CATEGORIES:Competitions
ATTACH;FMTTYPE=image/png:https://wcyork.ca/wp-content/uploads/2026/03/Screenshot-2025-09-16-171435.png
ORGANIZER;CN="Arts Society King":MAILTO:info@artssocietyking.ca
END:VEVENT
END:VCALENDAR