BEGIN:VCALENDAR
VERSION:2.0
PRODID:-//Writers&#039; Community of York Region - ECPv6.15.20//NONSGML v1.0//EN
CALSCALE:GREGORIAN
METHOD:PUBLISH
X-ORIGINAL-URL:https://wcyork.ca
X-WR-CALDESC:Events for Writers&#039; Community of York Region
REFRESH-INTERVAL;VALUE=DURATION:PT1H
X-Robots-Tag:noindex
X-PUBLISHED-TTL:PT1H
BEGIN:VTIMEZONE
TZID:America/Toronto
BEGIN:DAYLIGHT
TZOFFSETFROM:-0500
TZOFFSETTO:-0400
TZNAME:EDT
DTSTART:20250309T070000
END:DAYLIGHT
BEGIN:STANDARD
TZOFFSETFROM:-0400
TZOFFSETTO:-0500
TZNAME:EST
DTSTART:20251102T060000
END:STANDARD
BEGIN:DAYLIGHT
TZOFFSETFROM:-0500
TZOFFSETTO:-0400
TZNAME:EDT
DTSTART:20260308T070000
END:DAYLIGHT
BEGIN:STANDARD
TZOFFSETFROM:-0400
TZOFFSETTO:-0500
TZNAME:EST
DTSTART:20261101T060000
END:STANDARD
BEGIN:DAYLIGHT
TZOFFSETFROM:-0500
TZOFFSETTO:-0400
TZNAME:EDT
DTSTART:20270314T070000
END:DAYLIGHT
BEGIN:STANDARD
TZOFFSETFROM:-0400
TZOFFSETTO:-0500
TZNAME:EST
DTSTART:20271107T060000
END:STANDARD
END:VTIMEZONE
BEGIN:VEVENT
DTSTART;TZID=America/Toronto:20260426T140000
DTEND;TZID=America/Toronto:20260426T160000
DTSTAMP:20260420T071826
CREATED:20260228T153349Z
LAST-MODIFIED:20260301T145825Z
UID:5837-1777212000-1777219200@wcyork.ca
SUMMARY:Writers’ Community of York Region Presents: Author Q&A + Annual General Meeting
DESCRIPTION:📍 Newmarket Public Library–Multipurpose Room\n📅 Sunday\, April 26\n⏰ 2:00–4:00 PM\n🎟 Free Admission\n \n\nJoin us for an afternoon featuring two events. Attend one or stay for both!\n\n\n\n✨ 2:00 PM: Author Q&A & Book Signing with Emily Ohanjanians\n\n\n \nWe’re delighted to welcome Emily Ohanjanians\, author of The Book Tour. Before becoming an author\, Emily worked as a Big Five editor for 15 years\, giving her unique insight into the publishing industry. Join us for an intimate Q&A\, and get your book signed!\n\n📋 3:00 PM: WCYR Annual General Meeting \nAfter the author event concludes\, we will hold the WCYR’s Annual General Meeting. Attendance at the AGM is optional. Whether you come to connect with fellow writers or take part in shaping WCYR’s future\, we would love to see you there! \n\nReserve your spot:\n\nAuthor Q & A (FREE)\nAuthor Q & A and a copy of Emily’s book ($20.00)\nAGM (FREE)
URL:https://wcyork.ca/event/writers-community-of-york-region-presents-author-qa-annual-general-meeting/
LOCATION:Newmarket Public Library\, 438 Park Ave\, Newmarket\, Ontario\, L3Y 1W1\, Canada
CATEGORIES:AGM,Speakers
ATTACH;FMTTYPE=image/png:https://wcyork.ca/wp-content/uploads/2026/02/Brown-and-Cream-Modern-Book-Launch-Event-Instagram-Post-1000-x-560-px.png
ORGANIZER;CN="WCYR":MAILTO:wcyr.cochair@gmail.com
END:VEVENT
END:VCALENDAR